BEGIN:VCALENDAR
VERSION:2.0
PRODID:-//The Curvy Fashionista - ECPv6.15.20//NONSGML v1.0//EN
CALSCALE:GREGORIAN
METHOD:PUBLISH
X-WR-CALNAME:The Curvy Fashionista
X-ORIGINAL-URL:https://thecurvyfashionista.com
X-WR-CALDESC:Events for The Curvy Fashionista
REFRESH-INTERVAL;VALUE=DURATION:PT1H
X-Robots-Tag:noindex
X-PUBLISHED-TTL:PT1H
BEGIN:VTIMEZONE
TZID:America/New_York
BEGIN:DAYLIGHT
TZOFFSETFROM:-0500
TZOFFSETTO:-0400
TZNAME:EDT
DTSTART:20250309T070000
END:DAYLIGHT
BEGIN:STANDARD
TZOFFSETFROM:-0400
TZOFFSETTO:-0500
TZNAME:EST
DTSTART:20251102T060000
END:STANDARD
BEGIN:DAYLIGHT
TZOFFSETFROM:-0500
TZOFFSETTO:-0400
TZNAME:EDT
DTSTART:20260308T070000
END:DAYLIGHT
BEGIN:STANDARD
TZOFFSETFROM:-0400
TZOFFSETTO:-0500
TZNAME:EST
DTSTART:20261101T060000
END:STANDARD
BEGIN:DAYLIGHT
TZOFFSETFROM:-0500
TZOFFSETTO:-0400
TZNAME:EDT
DTSTART:20270314T070000
END:DAYLIGHT
BEGIN:STANDARD
TZOFFSETFROM:-0400
TZOFFSETTO:-0500
TZNAME:EST
DTSTART:20271107T060000
END:STANDARD
END:VTIMEZONE
BEGIN:VEVENT
DTSTART;TZID=America/New_York:20260315T120000
DTEND;TZID=America/New_York:20260315T130000
DTSTAMP:20260424T110450
CREATED:20260226T071442Z
LAST-MODIFIED:20260226T071448Z
UID:167360-1773576000-1773579600@thecurvyfashionista.com
SUMMARY:Making Waves Fat Swim
DESCRIPTION:A Bay Area tradition since the 1980s\, Making Waves Fat Swim is a volunteer run weekly swim created by and for self identified fat people. Held most Sundays throughout the year\, this longstanding community space brings people together for movement\, play\, connection\, and support in a fat positive environment. \n\n\n\nMaking Waves is more than swim time. It is a respectful\, supportive space where fat people gather without judgment to exercise\, float\, splash\, train\, laugh\, and build community. All genders and LGBTQIA+ fat folks are welcome. \n\n\n\nThis is a fat positive space. Discussions of dieting or weight loss are not allowed. The intention is to maintain an environment centered on body autonomy\, joy\, and affirmation. \n\n\n\nParticipants have exclusive use of the indoor pool during swim time. The locker room\, showers\, changing areas\, and ADA bathrooms are shared with the general facility. \n\n\n\nCost\n\n\n\nSuggested minimum contribution is $10 and up\, payable in the pool area\, not at the front desk. \n\n\n\nAccepted forms of payment:• Cash• CashApp: $MAKINGWAVESFATSWIM• Zelle: fatswim@gmail.com \n\n\n\nVenmo is no longer accepted. \n\n\n\nThose who are able to contribute more than the suggested minimum are encouraged to do so. The cost to rent the pool and maintain liability insurance remains the same regardless of attendance. Contributions help sustain the swim. No one will be turned away for lack of funds. \n\n\n\nSign In\n\n\n\nThere is a sign in sheet located on the bench against the windows nearest the pool door. All participants are asked to sign in\, even if unable to contribute financially. Those who cannot pay are encouraged to speak with the host. Sign in records help sustain the program. \n\n\n\nAbout the Community\n\n\n\nSince the Coordinating Committee began managing the swim in late 2015\, there have been ongoing conversations about what makes Making Waves so meaningful. At its core\, the swim is rooted in cultivating a respectful and supportive community that centers fat people and keeps diet talk and weight loss discussions outside the pool. \n\n\n\nThe Fat Swim continues because of the energy\, care\, and financial support of its community. \n\n\n\nWho It’s For\n\n\n\nAll self identified fat people are welcome. \n\n\n\nOrganizers have addressed questions about the use of a 200 pound definition of being fat. They acknowledge that it is an imperfect measure\, as 200 pounds can look very different on different bodies. After exploring various approaches over the years\, they have not identified a clearer alternative and ask participants to honor the spirit and intention of the space. \n\n\n\nQuestions\n\n\n\nFor questions about cost or payment\, contact Making Waves via Instagram at @makingwavesfatswim or email fatswim@gmail.com. \n\n\n\nThose in the Bay Area looking for joyful\, affirming movement in community will find Making Waves to be a welcoming space to dive in. \n\n\n\nFor more information visit https://makingwavesswim.com/. \n\n\n\nFor more events like this\, visit TCF’s event calendar.
URL:https://thecurvyfashionista.com/event/making-waves-fat-swim-bay-area-15/
LOCATION:Albany Aquatic Center\, 1311 Portland Avenue\, Albany\, California\, 94706\, United States
END:VEVENT
END:VCALENDAR