BEGIN:VCALENDAR
VERSION:2.0
PRODID:-//The Curvy Fashionista - ECPv6.15.20//NONSGML v1.0//EN
CALSCALE:GREGORIAN
METHOD:PUBLISH
X-ORIGINAL-URL:https://thecurvyfashionista.com
X-WR-CALDESC:Events for The Curvy Fashionista
REFRESH-INTERVAL;VALUE=DURATION:PT1H
X-Robots-Tag:noindex
X-PUBLISHED-TTL:PT1H
BEGIN:VTIMEZONE
TZID:America/New_York
BEGIN:DAYLIGHT
TZOFFSETFROM:-0500
TZOFFSETTO:-0400
TZNAME:EDT
DTSTART:20240310T070000
END:DAYLIGHT
BEGIN:STANDARD
TZOFFSETFROM:-0400
TZOFFSETTO:-0500
TZNAME:EST
DTSTART:20241103T060000
END:STANDARD
BEGIN:DAYLIGHT
TZOFFSETFROM:-0500
TZOFFSETTO:-0400
TZNAME:EDT
DTSTART:20250309T070000
END:DAYLIGHT
BEGIN:STANDARD
TZOFFSETFROM:-0400
TZOFFSETTO:-0500
TZNAME:EST
DTSTART:20251102T060000
END:STANDARD
BEGIN:DAYLIGHT
TZOFFSETFROM:-0500
TZOFFSETTO:-0400
TZNAME:EDT
DTSTART:20260308T070000
END:DAYLIGHT
BEGIN:STANDARD
TZOFFSETFROM:-0400
TZOFFSETTO:-0500
TZNAME:EST
DTSTART:20261101T060000
END:STANDARD
END:VTIMEZONE
BEGIN:VEVENT
DTSTART;TZID=America/New_York:20250924T190000
DTEND;TZID=America/New_York:20250924T200000
DTSTAMP:20260425T082154
CREATED:20250923T002116Z
LAST-MODIFIED:20250923T002201Z
UID:159213-1758740400-1758744000@thecurvyfashionista.com
SUMMARY:Free the Jiggle: Latin Vibes Dance Class
DESCRIPTION:Get ready to move\, groove\, and celebrate your body at the body positive Latin dance class hosted by Free the Jiggle and Power Plus Wellness. \n\n\n\nThis high-energy\, all-levels dance class is designed to empower\, uplift\, and help you reconnect with the joy of movement\, no matter your size\, shape\, or dance experience. \n\n\n\nWhether you’re brand new to dance or a seasoned pro\, you’ll leave feeling stronger\, more confident\, and inspired. Come solo or bring a friend\, and join us in building a supportive community that celebrates body positivity\, self-love\, and the freedom to move without limits. \n\n\n\nLed by the highly experienced\, Jessie Diaz-Herrera (@curveswithmoves on Instagram).  \n\n\n\nClass is available virtual as well! \n\n\n\n@powerpluswellness // https://www.powerpluswellness.com/ \n\n\n\n@freethejiggle
URL:https://thecurvyfashionista.com/event/free-jiggle-latin-dance-class/
LOCATION:Female Fight Club\, 5900 Riverdale Ave\, Bronx\, New York\, 10471\, United States
END:VEVENT
BEGIN:VEVENT
DTSTART;TZID=America/New_York:20250924T190000
DTEND;TZID=America/New_York:20250924T213000
DTSTAMP:20260425T082154
CREATED:20250923T021136Z
LAST-MODIFIED:20250923T021141Z
UID:159238-1758740400-1758749400@thecurvyfashionista.com
SUMMARY:Cut the Fat: Break Free from Diet Culture
DESCRIPTION:Want to break free from diet culture? We’ve got just the workshop for you! \n\n\n\nJoin Debbie Saroufim\, body acceptance coach and author of Fat and Beautiful\, for a FREE 90-minute workshop designed to help you heal your relationship with food and finally quiet the noise of unrealistic beauty and body standards. In this supportive and empowering space\, Debbie will guide you through practices that encourage peace\, self-compassion\, and a body neutral mindset. \n\n\n\nIn this diet workshop\, you’ll learn:\n\n\n\n\nWhat “being healthy” really means (beyond the myths of diet culture)\n\n\n\nThree ways to identify your own “healthy” bias\n\n\n\nHow to respond to triggers—yours and the ones from others\n\n\n\nPractical steps to move toward a body neutral relationship with yourself\n\n\n\n\nThis workshop is for anyone ready to release the pressures of diet culture and take steps toward a more compassionate\, sustainable relationship with their body. Whether you’re beginning your body acceptance journey or deepening the work you’ve already started\, you’ll leave with tools\, clarity\, and encouragement to support your next steps.  \n\n\n\nFor more information about this event: https://www.thebodyacceptancecoach.com/offers/xb7LkXNY/checkout?fbclid=PAdGRleAM-3g9leHRuA2FlbQIxMQABpxpC2dteDtn3oplQcUIIbmpNjToVsadfOLHeziFFq1IuHYELCe5n5Y2_o0w__aem_9qil32UOhy7SHpEKuvCh_w  \n\n\n\n For more events make sure to check out and subscribe to our event calendar: https://thecurvyfashionista.com/plus-size-events/
URL:https://thecurvyfashionista.com/event/cut-fat-break-free-diet-culture/
LOCATION:Plus Bus Boutique\, 5031 York Blvd\, Los Angeles\, California\, 90042\, United States
ATTACH;FMTTYPE=image/jpeg:https://thecurvyfashionista.com/wp-content/uploads/2025/09/Want-to-break-free-from-Diet-Culture-Begin-to-heal-your-relationship-with-your-body-in-a-world-t.jpg
END:VEVENT
END:VCALENDAR