BEGIN:VCALENDAR
VERSION:2.0
PRODID:-//The Curvy Fashionista - ECPv6.15.20//NONSGML v1.0//EN
CALSCALE:GREGORIAN
METHOD:PUBLISH
X-ORIGINAL-URL:https://thecurvyfashionista.com
X-WR-CALDESC:Events for The Curvy Fashionista
REFRESH-INTERVAL;VALUE=DURATION:PT1H
X-Robots-Tag:noindex
X-PUBLISHED-TTL:PT1H
BEGIN:VTIMEZONE
TZID:America/New_York
BEGIN:DAYLIGHT
TZOFFSETFROM:-0500
TZOFFSETTO:-0400
TZNAME:EDT
DTSTART:20240310T070000
END:DAYLIGHT
BEGIN:STANDARD
TZOFFSETFROM:-0400
TZOFFSETTO:-0500
TZNAME:EST
DTSTART:20241103T060000
END:STANDARD
BEGIN:DAYLIGHT
TZOFFSETFROM:-0500
TZOFFSETTO:-0400
TZNAME:EDT
DTSTART:20250309T070000
END:DAYLIGHT
BEGIN:STANDARD
TZOFFSETFROM:-0400
TZOFFSETTO:-0500
TZNAME:EST
DTSTART:20251102T060000
END:STANDARD
BEGIN:DAYLIGHT
TZOFFSETFROM:-0500
TZOFFSETTO:-0400
TZNAME:EDT
DTSTART:20260308T070000
END:DAYLIGHT
BEGIN:STANDARD
TZOFFSETFROM:-0400
TZOFFSETTO:-0500
TZNAME:EST
DTSTART:20261101T060000
END:STANDARD
END:VTIMEZONE
BEGIN:VEVENT
DTSTART;TZID=America/New_York:20250730T130000
DTEND;TZID=America/New_York:20250730T150000
DTSTAMP:20260425T101246
CREATED:20250725T222340Z
LAST-MODIFIED:20250725T222416Z
UID:154048-1753880400-1753887600@thecurvyfashionista.com
SUMMARY:TCF Talks: “I’m Tired of Being Resilient: Fatigue\, Burnout\, and the Plus Size Person”
DESCRIPTION:Join us for the first installment of TCF Talks\, a bold new conversation series from The Curvy Fashionista that goes beyond the runway to unpack the realities of plus size life. \n\n\n\nThis month’s topic?“I’m Tired of Being Resilient: Fatigue\, Burnout\, and the Plus-Size Woman.” \n\n\n\nIn a culture that demands strength from us—but rarely gives us space to rest—we’re asking the hard questions: \n\n\n\n\nHow does burnout uniquely impact plus-size women and femmes?\n\n\n\nWhat does emotional safety look like in bodies that the world overlooks?\n\n\n\nAnd how do we reclaim rest as a right\, not a luxury?\n\n\n\n\nModerated by Marie Denee\, founder of The Curvy Fashionista\, this panel features: \n\n\n\n\nDr. Rachel Millner — Psychologist & Eating Disorder Specialist\n\n\n\nCarmina Suzanne — Disabled plus-size model & DEI advocate\n\n\n\nNick Darden — Big & Tall model & men’s style creator\n\n\n\nPhaith Montoya — Fat liberationist & wellness educator\n\n\n\n\nExpect unfiltered insights\, lived experience\, and tools for protecting your peace in a world that expects your strength—but not your softness.
URL:https://thecurvyfashionista.com/event/tcf-talks-im-tired-of-being-resilient-fatigue-burnout-and-the-plus-size-person/
LOCATION:Youtube
CATEGORIES:Beauty & Lifestyle Experiences,Body Positive Conferences & Summits,Fitness & Wellness Events,Virtual Events & Workshops
END:VEVENT
END:VCALENDAR