BEGIN:VCALENDAR
VERSION:2.0
PRODID:-//The Curvy Fashionista - ECPv6.15.20//NONSGML v1.0//EN
CALSCALE:GREGORIAN
METHOD:PUBLISH
X-WR-CALNAME:The Curvy Fashionista
X-ORIGINAL-URL:https://thecurvyfashionista.com
X-WR-CALDESC:Events for The Curvy Fashionista
REFRESH-INTERVAL;VALUE=DURATION:PT1H
X-Robots-Tag:noindex
X-PUBLISHED-TTL:PT1H
BEGIN:VTIMEZONE
TZID:America/New_York
BEGIN:DAYLIGHT
TZOFFSETFROM:-0500
TZOFFSETTO:-0400
TZNAME:EDT
DTSTART:20240310T070000
END:DAYLIGHT
BEGIN:STANDARD
TZOFFSETFROM:-0400
TZOFFSETTO:-0500
TZNAME:EST
DTSTART:20241103T060000
END:STANDARD
BEGIN:DAYLIGHT
TZOFFSETFROM:-0500
TZOFFSETTO:-0400
TZNAME:EDT
DTSTART:20250309T070000
END:DAYLIGHT
BEGIN:STANDARD
TZOFFSETFROM:-0400
TZOFFSETTO:-0500
TZNAME:EST
DTSTART:20251102T060000
END:STANDARD
BEGIN:DAYLIGHT
TZOFFSETFROM:-0500
TZOFFSETTO:-0400
TZNAME:EDT
DTSTART:20260308T070000
END:DAYLIGHT
BEGIN:STANDARD
TZOFFSETFROM:-0400
TZOFFSETTO:-0500
TZNAME:EST
DTSTART:20261101T060000
END:STANDARD
END:VTIMEZONE
BEGIN:VEVENT
DTSTART;TZID=America/New_York:20250726T183000
DTEND;TZID=America/New_York:20250726T210000
DTSTAMP:20260425T082113
CREATED:20250717T054156Z
LAST-MODIFIED:20250717T054201Z
UID:153848-1753554600-1753563600@thecurvyfashionista.com
SUMMARY:Curveture's Palette Party: Plus-Size Color Analysis Night
DESCRIPTION:
URL:https://thecurvyfashionista.com/event/curvetures-palette-party-plus-size-color-analysis-night/
LOCATION:Curveture Plus-Size Thrift\, 1394 N Freedom Blvd\, Provo\, UT\, 1394 N Freedom Blvd\, Provo\, Utah\, United States
CATEGORIES:Beauty & Lifestyle Experiences,Community Meetups & Socials,Plus Size Fashion Events & Runway Shows
ORGANIZER;CN="Curveture Plus Size Thrift":MAILTO:lillian@shopcurveture.com
END:VEVENT
END:VCALENDAR